BEGIN:VCALENDAR
VERSION:2.0
PRODID:-//African American Chamber of Commerce of San Antonio - ECPv6.1.3//NONSGML v1.0//EN
CALSCALE:GREGORIAN
METHOD:PUBLISH
X-ORIGINAL-URL:https://www.africanamericanchambersa.org
X-WR-CALDESC:Events for African American Chamber of Commerce of San Antonio
REFRESH-INTERVAL;VALUE=DURATION:PT1H
X-Robots-Tag:noindex
X-PUBLISHED-TTL:PT1H
BEGIN:VTIMEZONE
TZID:America/Chicago
BEGIN:DAYLIGHT
TZOFFSETFROM:-0600
TZOFFSETTO:-0500
TZNAME:CDT
DTSTART:20250309T080000
END:DAYLIGHT
BEGIN:STANDARD
TZOFFSETFROM:-0500
TZOFFSETTO:-0600
TZNAME:CST
DTSTART:20251102T070000
END:STANDARD
BEGIN:DAYLIGHT
TZOFFSETFROM:-0600
TZOFFSETTO:-0500
TZNAME:CDT
DTSTART:20260308T080000
END:DAYLIGHT
BEGIN:STANDARD
TZOFFSETFROM:-0500
TZOFFSETTO:-0600
TZNAME:CST
DTSTART:20261101T070000
END:STANDARD
END:VTIMEZONE
BEGIN:VEVENT
DTSTART;TZID=America/Chicago:20250813T110000
DTEND;TZID=America/Chicago:20250813T120000
DTSTAMP:20260420T015957
CREATED:20230813T082521Z
LAST-MODIFIED:20240825T100946Z
UID:10000397-1755082800-1755086400@www.africanamericanchambersa.org
SUMMARY:Chamber New Member Orientation
DESCRIPTION:African American Chamber of Commerce SATX is inviting you to a scheduled Zoom meeting.\nTopic: Chamber New Member Orientation\nTime: This is a recurring meeting Meet anytime\nJoin Zoom Meeting\nhttps://us06web.zoom.us/j/86573116637\nMeeting ID: 865 7311 6637\nOne tap mobile\n+13462487799\,\,86573116637# US (Houston)\n+17207072699\,\,86573116637# US (Denver)\nDial by your location\n        +1 346 248 7799 US (Houston)\n        +1 720 707 2699 US (Denver)\n        +1 253 215 8782 US (Tacoma)\n        +1 669 444 9171 US\n        +1 719 359 4580 US\n        +1 301 715 8592 US (Washington DC)\n        +1 309 205 3325 US\n        +1 312 626 6799 US (Chicago)\n        +1 386 347 5053 US\n        +1 564 217 2000 US\n        +1 646 558 8656 US (New York)\n        +1 646 931 3860 US\nMeeting ID: 865 7311 6637\nFind your local number: https://us06web.zoom.us/u/kbEshWJwnj
URL:https://www.africanamericanchambersa.org/event/chamber-new-member-orientation-31/
LOCATION:https://us06web.zoom.us/j/86573116637
END:VEVENT
BEGIN:VEVENT
DTSTART;TZID=America/Chicago:20250910T110000
DTEND;TZID=America/Chicago:20250910T120000
DTSTAMP:20260420T015957
CREATED:20230910T102609Z
LAST-MODIFIED:20240825T100947Z
UID:10000424-1757502000-1757505600@www.africanamericanchambersa.org
SUMMARY:Chamber New Member Orientation
DESCRIPTION:African American Chamber of Commerce SATX is inviting you to a scheduled Zoom meeting.\nTopic: Chamber New Member Orientation\nTime: This is a recurring meeting Meet anytime\nJoin Zoom Meeting\nhttps://us06web.zoom.us/j/86573116637\nMeeting ID: 865 7311 6637\nOne tap mobile\n+13462487799\,\,86573116637# US (Houston)\n+17207072699\,\,86573116637# US (Denver)\nDial by your location\n        +1 346 248 7799 US (Houston)\n        +1 720 707 2699 US (Denver)\n        +1 253 215 8782 US (Tacoma)\n        +1 669 444 9171 US\n        +1 719 359 4580 US\n        +1 301 715 8592 US (Washington DC)\n        +1 309 205 3325 US\n        +1 312 626 6799 US (Chicago)\n        +1 386 347 5053 US\n        +1 564 217 2000 US\n        +1 646 558 8656 US (New York)\n        +1 646 931 3860 US\nMeeting ID: 865 7311 6637\nFind your local number: https://us06web.zoom.us/u/kbEshWJwnj
URL:https://www.africanamericanchambersa.org/event/chamber-new-member-orientation-32/
LOCATION:https://us06web.zoom.us/j/86573116637
END:VEVENT
BEGIN:VEVENT
DTSTART;TZID=America/Chicago:20251008T110000
DTEND;TZID=America/Chicago:20251008T120000
DTSTAMP:20260420T015957
CREATED:20231008T122514Z
LAST-MODIFIED:20240825T100948Z
UID:10000427-1759921200-1759924800@www.africanamericanchambersa.org
SUMMARY:Chamber New Member Orientation
DESCRIPTION:African American Chamber of Commerce SATX is inviting you to a scheduled Zoom meeting.\nTopic: Chamber New Member Orientation\nTime: This is a recurring meeting Meet anytime\nJoin Zoom Meeting\nhttps://us06web.zoom.us/j/86573116637\nMeeting ID: 865 7311 6637\nOne tap mobile\n+13462487799\,\,86573116637# US (Houston)\n+17207072699\,\,86573116637# US (Denver)\nDial by your location\n        +1 346 248 7799 US (Houston)\n        +1 720 707 2699 US (Denver)\n        +1 253 215 8782 US (Tacoma)\n        +1 669 444 9171 US\n        +1 719 359 4580 US\n        +1 301 715 8592 US (Washington DC)\n        +1 309 205 3325 US\n        +1 312 626 6799 US (Chicago)\n        +1 386 347 5053 US\n        +1 564 217 2000 US\n        +1 646 558 8656 US (New York)\n        +1 646 931 3860 US\nMeeting ID: 865 7311 6637\nFind your local number: https://us06web.zoom.us/u/kbEshWJwnj
URL:https://www.africanamericanchambersa.org/event/chamber-new-member-orientation-33/
LOCATION:https://us06web.zoom.us/j/86573116637
END:VEVENT
BEGIN:VEVENT
DTSTART;TZID=America/Chicago:20251112T110000
DTEND;TZID=America/Chicago:20251112T120000
DTSTAMP:20260420T015957
CREATED:20231112T204145Z
LAST-MODIFIED:20240825T100948Z
UID:10000430-1762945200-1762948800@www.africanamericanchambersa.org
SUMMARY:Chamber New Member Orientation
DESCRIPTION:African American Chamber of Commerce SATX is inviting you to a scheduled Zoom meeting.\nTopic: Chamber New Member Orientation\nTime: This is a recurring meeting Meet anytime\nJoin Zoom Meeting\nhttps://us06web.zoom.us/j/86573116637\nMeeting ID: 865 7311 6637\nOne tap mobile\n+13462487799\,\,86573116637# US (Houston)\n+17207072699\,\,86573116637# US (Denver)\nDial by your location\n        +1 346 248 7799 US (Houston)\n        +1 720 707 2699 US (Denver)\n        +1 253 215 8782 US (Tacoma)\n        +1 669 444 9171 US\n        +1 719 359 4580 US\n        +1 301 715 8592 US (Washington DC)\n        +1 309 205 3325 US\n        +1 312 626 6799 US (Chicago)\n        +1 386 347 5053 US\n        +1 564 217 2000 US\n        +1 646 558 8656 US (New York)\n        +1 646 931 3860 US\nMeeting ID: 865 7311 6637\nFind your local number: https://us06web.zoom.us/u/kbEshWJwnj
URL:https://www.africanamericanchambersa.org/event/chamber-new-member-orientation-34/
LOCATION:https://us06web.zoom.us/j/86573116637
END:VEVENT
BEGIN:VEVENT
DTSTART;TZID=America/Chicago:20251210T110000
DTEND;TZID=America/Chicago:20251210T120000
DTSTAMP:20260420T015957
CREATED:20231210T224012Z
LAST-MODIFIED:20240825T100949Z
UID:10000433-1765364400-1765368000@www.africanamericanchambersa.org
SUMMARY:Chamber New Member Orientation
DESCRIPTION:African American Chamber of Commerce SATX is inviting you to a scheduled Zoom meeting.\nTopic: Chamber New Member Orientation\nTime: This is a recurring meeting Meet anytime\nJoin Zoom Meeting\nhttps://us06web.zoom.us/j/86573116637\nMeeting ID: 865 7311 6637\nOne tap mobile\n+13462487799\,\,86573116637# US (Houston)\n+17207072699\,\,86573116637# US (Denver)\nDial by your location\n        +1 346 248 7799 US (Houston)\n        +1 720 707 2699 US (Denver)\n        +1 253 215 8782 US (Tacoma)\n        +1 669 444 9171 US\n        +1 719 359 4580 US\n        +1 301 715 8592 US (Washington DC)\n        +1 309 205 3325 US\n        +1 312 626 6799 US (Chicago)\n        +1 386 347 5053 US\n        +1 564 217 2000 US\n        +1 646 558 8656 US (New York)\n        +1 646 931 3860 US\nMeeting ID: 865 7311 6637\nFind your local number: https://us06web.zoom.us/u/kbEshWJwnj
URL:https://www.africanamericanchambersa.org/event/chamber-new-member-orientation-35/
LOCATION:https://us06web.zoom.us/j/86573116637
END:VEVENT
BEGIN:VEVENT
DTSTART;TZID=America/Chicago:20260114T110000
DTEND;TZID=America/Chicago:20260114T120000
DTSTAMP:20260420T015957
CREATED:20240114T235551Z
LAST-MODIFIED:20240825T100949Z
UID:10000436-1768388400-1768392000@www.africanamericanchambersa.org
SUMMARY:Chamber New Member Orientation
DESCRIPTION:African American Chamber of Commerce SATX is inviting you to a scheduled Zoom meeting.\nTopic: Chamber New Member Orientation\nTime: This is a recurring meeting Meet anytime\nJoin Zoom Meeting\nhttps://us06web.zoom.us/j/86573116637\nMeeting ID: 865 7311 6637\nOne tap mobile\n+13462487799\,\,86573116637# US (Houston)\n+17207072699\,\,86573116637# US (Denver)\nDial by your location\n        +1 346 248 7799 US (Houston)\n        +1 720 707 2699 US (Denver)\n        +1 253 215 8782 US (Tacoma)\n        +1 669 444 9171 US\n        +1 719 359 4580 US\n        +1 301 715 8592 US (Washington DC)\n        +1 309 205 3325 US\n        +1 312 626 6799 US (Chicago)\n        +1 386 347 5053 US\n        +1 564 217 2000 US\n        +1 646 558 8656 US (New York)\n        +1 646 931 3860 US\nMeeting ID: 865 7311 6637\nFind your local number: https://us06web.zoom.us/u/kbEshWJwnj
URL:https://www.africanamericanchambersa.org/event/chamber-new-member-orientation-36/
LOCATION:https://us06web.zoom.us/j/86573116637
END:VEVENT
BEGIN:VEVENT
DTSTART;TZID=America/Chicago:20260211T110000
DTEND;TZID=America/Chicago:20260211T120000
DTSTAMP:20260420T015957
CREATED:20240211T012506Z
LAST-MODIFIED:20240825T100950Z
UID:10000438-1770807600-1770811200@www.africanamericanchambersa.org
SUMMARY:Chamber New Member Orientation
DESCRIPTION:African American Chamber of Commerce SATX is inviting you to a scheduled Zoom meeting.\nTopic: Chamber New Member Orientation\nTime: This is a recurring meeting Meet anytime\nJoin Zoom Meeting\nhttps://us06web.zoom.us/j/86573116637\nMeeting ID: 865 7311 6637\nOne tap mobile\n+13462487799\,\,86573116637# US (Houston)\n+17207072699\,\,86573116637# US (Denver)\nDial by your location\n        +1 346 248 7799 US (Houston)\n        +1 720 707 2699 US (Denver)\n        +1 253 215 8782 US (Tacoma)\n        +1 669 444 9171 US\n        +1 719 359 4580 US\n        +1 301 715 8592 US (Washington DC)\n        +1 309 205 3325 US\n        +1 312 626 6799 US (Chicago)\n        +1 386 347 5053 US\n        +1 564 217 2000 US\n        +1 646 558 8656 US (New York)\n        +1 646 931 3860 US\nMeeting ID: 865 7311 6637\nFind your local number: https://us06web.zoom.us/u/kbEshWJwnj
URL:https://www.africanamericanchambersa.org/event/chamber-new-member-orientation-37/
LOCATION:https://us06web.zoom.us/j/86573116637
END:VEVENT
BEGIN:VEVENT
DTSTART;TZID=America/Chicago:20260311T110000
DTEND;TZID=America/Chicago:20260311T120000
DTSTAMP:20260420T015957
CREATED:20240311T032455Z
LAST-MODIFIED:20240825T100950Z
UID:10000441-1773226800-1773230400@www.africanamericanchambersa.org
SUMMARY:Chamber New Member Orientation
DESCRIPTION:African American Chamber of Commerce SATX is inviting you to a scheduled Zoom meeting.\nTopic: Chamber New Member Orientation\nTime: This is a recurring meeting Meet anytime\nJoin Zoom Meeting\nhttps://us06web.zoom.us/j/86573116637\nMeeting ID: 865 7311 6637\nOne tap mobile\n+13462487799\,\,86573116637# US (Houston)\n+17207072699\,\,86573116637# US (Denver)\nDial by your location\n        +1 346 248 7799 US (Houston)\n        +1 720 707 2699 US (Denver)\n        +1 253 215 8782 US (Tacoma)\n        +1 669 444 9171 US\n        +1 719 359 4580 US\n        +1 301 715 8592 US (Washington DC)\n        +1 309 205 3325 US\n        +1 312 626 6799 US (Chicago)\n        +1 386 347 5053 US\n        +1 564 217 2000 US\n        +1 646 558 8656 US (New York)\n        +1 646 931 3860 US\nMeeting ID: 865 7311 6637\nFind your local number: https://us06web.zoom.us/u/kbEshWJwnj
URL:https://www.africanamericanchambersa.org/event/chamber-new-member-orientation-38/
LOCATION:https://us06web.zoom.us/j/86573116637
END:VEVENT
BEGIN:VEVENT
DTSTART;TZID=America/Chicago:20260408T110000
DTEND;TZID=America/Chicago:20260408T120000
DTSTAMP:20260420T015957
CREATED:20240408T041002Z
LAST-MODIFIED:20240825T100951Z
UID:10000442-1775646000-1775649600@www.africanamericanchambersa.org
SUMMARY:Chamber New Member Orientation
DESCRIPTION:African American Chamber of Commerce SATX is inviting you to a scheduled Zoom meeting.\nTopic: Chamber New Member Orientation\nTime: This is a recurring meeting Meet anytime\nJoin Zoom Meeting\nhttps://us06web.zoom.us/j/86573116637\nMeeting ID: 865 7311 6637\nOne tap mobile\n+13462487799\,\,86573116637# US (Houston)\n+17207072699\,\,86573116637# US (Denver)\nDial by your location\n        +1 346 248 7799 US (Houston)\n        +1 720 707 2699 US (Denver)\n        +1 253 215 8782 US (Tacoma)\n        +1 669 444 9171 US\n        +1 719 359 4580 US\n        +1 301 715 8592 US (Washington DC)\n        +1 309 205 3325 US\n        +1 312 626 6799 US (Chicago)\n        +1 386 347 5053 US\n        +1 564 217 2000 US\n        +1 646 558 8656 US (New York)\n        +1 646 931 3860 US\nMeeting ID: 865 7311 6637\nFind your local number: https://us06web.zoom.us/u/kbEshWJwnj
URL:https://www.africanamericanchambersa.org/event/chamber-new-member-orientation-39/
LOCATION:https://us06web.zoom.us/j/86573116637
END:VEVENT
END:VCALENDAR